Package: scFeatures Version: 1.8.0 Command: rm -rf scFeatures.buildbin-libdir && mkdir scFeatures.buildbin-libdir && /Users/biocbuild/BBS/utils/build-universal.sh scFeatures_1.8.0.tar.gz /Library/Frameworks/R.framework/Resources/bin/R scFeatures.buildbin-libdir StartedAt: 2025-10-14 14:42:37 -0400 (Tue, 14 Oct 2025) EndedAt: 2025-10-14 14:45:16 -0400 (Tue, 14 Oct 2025) EllapsedTime: 158.8 seconds RetCode: 0 Status: OK PackageFile: scFeatures_1.8.0.tgz PackageFileSize: 3.068 MiB