Package: scFeatures Version: 1.8.0 Command: /home/biocbuild/R/R/bin/R CMD INSTALL scFeatures StartedAt: 2025-10-13 21:18:26 -0000 (Mon, 13 Oct 2025) EndedAt: 2025-10-13 21:19:47 -0000 (Mon, 13 Oct 2025) EllapsedTime: 81.8 seconds RetCode: 0 Status: OK