Package: scFeatures Version: 1.8.0 Command: /Library/Frameworks/R.framework/Resources/bin/R CMD build --keep-empty-dirs --no-resave-data scFeatures StartedAt: 2025-10-14 08:43:11 -0400 (Tue, 14 Oct 2025) EndedAt: 2025-10-14 08:45:39 -0400 (Tue, 14 Oct 2025) EllapsedTime: 147.4 seconds RetCode: 0 Status: OK PackageFile: scFeatures_1.8.0.tar.gz PackageFileSize: 2.928 MiB