Package: scDotPlot Version: 1.2.1 Command: rm -rf scDotPlot.buildbin-libdir && mkdir scDotPlot.buildbin-libdir && /Users/biocbuild/BBS/utils/build-universal.sh scDotPlot_1.2.1.tar.gz /Library/Frameworks/R.framework/Resources/bin/R scDotPlot.buildbin-libdir StartedAt: 2025-10-14 14:42:07 -0400 (Tue, 14 Oct 2025) EndedAt: 2025-10-14 14:44:01 -0400 (Tue, 14 Oct 2025) EllapsedTime: 113.8 seconds RetCode: 0 Status: OK PackageFile: scDotPlot_1.2.1.tgz PackageFileSize: 2.002 MiB