Package: scDotPlot Version: 1.2.1 Command: /Library/Frameworks/R.framework/Resources/bin/R CMD build --keep-empty-dirs --no-resave-data scDotPlot StartedAt: 2025-10-14 08:41:21 -0400 (Tue, 14 Oct 2025) EndedAt: 2025-10-14 08:43:11 -0400 (Tue, 14 Oct 2025) EllapsedTime: 110.3 seconds RetCode: 0 Status: OK PackageFile: scDotPlot_1.2.1.tar.gz PackageFileSize: 1.972 MiB