Package: scDiagnostics Version: 1.2.0 Command: /home/biocbuild/bbs-3.21-bioc/R/bin/R CMD INSTALL scDiagnostics StartedAt: 2025-10-15 15:18:07 -0400 (Wed, 15 Oct 2025) EndedAt: 2025-10-15 15:18:33 -0400 (Wed, 15 Oct 2025) EllapsedTime: 27.0 seconds RetCode: 0 Status: OK