Package: scDiagnostics Version: 1.2.0 Command: /Library/Frameworks/R.framework/Resources/bin/R CMD INSTALL scDiagnostics StartedAt: 2025-10-13 18:39:56 -0400 (Mon, 13 Oct 2025) EndedAt: 2025-10-13 18:40:28 -0400 (Mon, 13 Oct 2025) EllapsedTime: 32.2 seconds RetCode: 0 Status: OK