Package: scDiagnostics Version: 1.2.0 Command: /Library/Frameworks/R.framework/Resources/bin/R CMD build --keep-empty-dirs --no-resave-data scDiagnostics StartedAt: 2025-10-14 08:40:57 -0400 (Tue, 14 Oct 2025) EndedAt: 2025-10-14 08:44:54 -0400 (Tue, 14 Oct 2025) EllapsedTime: 236.1 seconds RetCode: 0 Status: OK PackageFile: scDiagnostics_1.2.0.tar.gz PackageFileSize: 3.62 MiB