Package: scDesign3 Version: 1.6.0 Command: /Library/Frameworks/R.framework/Resources/bin/R CMD build --keep-empty-dirs --no-resave-data scDesign3 StartedAt: 2025-10-13 22:20:03 -0400 (Mon, 13 Oct 2025) EndedAt: 2025-10-13 22:20:57 -0400 (Mon, 13 Oct 2025) EllapsedTime: 53.9 seconds RetCode: 1 Status: ERROR PackageFile: None PackageFileSize: NA