Package: scDesign3 Version: 1.6.0 Command: rm -rf scDesign3.buildbin-libdir && mkdir scDesign3.buildbin-libdir && /Users/biocbuild/BBS/utils/build-universal.sh scDesign3_1.6.0.tar.gz /Library/Frameworks/R.framework/Resources/bin/R scDesign3.buildbin-libdir StartedAt: 2025-07-08 14:11:44 -0400 (Tue, 08 Jul 2025) EndedAt: 2025-07-08 14:12:11 -0400 (Tue, 08 Jul 2025) EllapsedTime: 27.0 seconds RetCode: 0 Status: OK PackageFile: scDesign3_1.6.0.tgz PackageFileSize: 1.117 MiB