Package: scDesign3 Version: 1.6.0 Command: /home/biocbuild/R/R/bin/R CMD INSTALL scDesign3 StartedAt: 2025-10-13 20:52:08 -0000 (Mon, 13 Oct 2025) EndedAt: 2025-10-13 20:52:21 -0000 (Mon, 13 Oct 2025) EllapsedTime: 13.1 seconds RetCode: 0 Status: OK