Package: scDesign3 Version: 1.6.0 Command: /Library/Frameworks/R.framework/Resources/bin/R CMD INSTALL scDesign3 StartedAt: 2025-10-13 17:10:18 -0400 (Mon, 13 Oct 2025) EndedAt: 2025-10-13 17:10:29 -0400 (Mon, 13 Oct 2025) EllapsedTime: 11.5 seconds RetCode: 0 Status: OK