Package: scDblFinder Version: 1.22.0 Command: /Library/Frameworks/R.framework/Resources/bin/R CMD build --keep-empty-dirs --no-resave-data scDblFinder StartedAt: 2025-10-14 08:36:54 -0400 (Tue, 14 Oct 2025) EndedAt: 2025-10-14 08:39:39 -0400 (Tue, 14 Oct 2025) EllapsedTime: 165.1 seconds RetCode: 0 Status: OK PackageFile: scDblFinder_1.22.0.tar.gz PackageFileSize: 2.209 MiB