Package: scDblFinder Version: 1.22.0 Command: rm -rf scDblFinder.buildbin-libdir && mkdir scDblFinder.buildbin-libdir && /Users/biocbuild/BBS/utils/build-universal.sh scDblFinder_1.22.0.tar.gz /Library/Frameworks/R.framework/Resources/bin/R scDblFinder.buildbin-libdir StartedAt: 2025-10-15 20:20:52 -0400 (Wed, 15 Oct 2025) EndedAt: 2025-10-15 20:21:48 -0400 (Wed, 15 Oct 2025) EllapsedTime: 55.9 seconds RetCode: 0 Status: OK PackageFile: scDblFinder_1.22.0.tgz PackageFileSize: 2.385 MiB