Package: scDataviz Version: 1.18.0 Command: /Library/Frameworks/R.framework/Resources/bin/R CMD build --keep-empty-dirs --no-resave-data scDataviz StartedAt: 2025-10-13 22:19:23 -0400 (Mon, 13 Oct 2025) EndedAt: 2025-10-13 22:29:46 -0400 (Mon, 13 Oct 2025) EllapsedTime: 623.2 seconds RetCode: 0 Status: OK PackageFile: scDataviz_1.18.0.tar.gz PackageFileSize: 8.293 MiB