Package: scDataviz Version: 1.18.0 Command: rm -rf scDataviz.buildbin-libdir && mkdir scDataviz.buildbin-libdir && /Users/biocbuild/BBS/utils/build-universal.sh scDataviz_1.18.0.tar.gz /Library/Frameworks/R.framework/Resources/bin/R scDataviz.buildbin-libdir StartedAt: 2025-10-14 14:41:33 -0400 (Tue, 14 Oct 2025) EndedAt: 2025-10-14 14:43:24 -0400 (Tue, 14 Oct 2025) EllapsedTime: 111.3 seconds RetCode: 0 Status: OK PackageFile: scDataviz_1.18.0.tgz PackageFileSize: 5.381 MiB