Package: scDDboost Version: 1.10.0 Command: /home/biocbuild/bbs-3.21-bioc/R/bin/R CMD build --keep-empty-dirs --no-resave-data scDDboost StartedAt: 2025-10-15 19:41:44 -0400 (Wed, 15 Oct 2025) EndedAt: 2025-10-15 19:43:19 -0400 (Wed, 15 Oct 2025) EllapsedTime: 95.1 seconds RetCode: 0 Status: OK PackageFile: scDDboost_1.10.0.tar.gz PackageFileSize: 812.3 KiB