Package: scDDboost Version: 1.10.0 Command: /Library/Frameworks/R.framework/Resources/bin/R CMD INSTALL scDDboost StartedAt: 2025-10-13 15:34:46 -0400 (Mon, 13 Oct 2025) EndedAt: 2025-10-13 15:36:49 -0400 (Mon, 13 Oct 2025) EllapsedTime: 122.9 seconds RetCode: 0 Status: OK