Package: scDDboost Version: 1.10.0 Command: /home/biocbuild/R/R/bin/R CMD check --install=check:scDDboost.install-out.txt --library=/home/biocbuild/R/R/site-library --no-vignettes --timings scDDboost_1.10.0.tar.gz StartedAt: 2025-10-14 13:50:51 -0000 (Tue, 14 Oct 2025) EndedAt: 2025-10-14 13:57:36 -0000 (Tue, 14 Oct 2025) EllapsedTime: 405.5 seconds RetCode: 0 Status: WARNINGS CheckDir: scDDboost.Rcheck Warnings: 1