Package: scDDboost Version: 1.10.0 Command: /Library/Frameworks/R.framework/Resources/bin/R CMD build --keep-empty-dirs --no-resave-data scDDboost StartedAt: 2025-10-14 08:39:39 -0400 (Tue, 14 Oct 2025) EndedAt: 2025-10-14 08:41:21 -0400 (Tue, 14 Oct 2025) EllapsedTime: 102.0 seconds RetCode: 0 Status: OK PackageFile: scDDboost_1.10.0.tar.gz PackageFileSize: 854.8 KiB