Package: scDD Version: 1.32.0 Command: /home/biocbuild/R/R/bin/R CMD build --keep-empty-dirs --no-resave-data scDD StartedAt: 2025-10-14 04:22:51 -0000 (Tue, 14 Oct 2025) EndedAt: 2025-10-14 04:25:26 -0000 (Tue, 14 Oct 2025) EllapsedTime: 155.1 seconds RetCode: 0 Status: OK PackageFile: scDD_1.32.0.tar.gz PackageFileSize: 839.6 KiB