Package: scClassify Version: 1.20.0 Command: /home/biocbuild/bbs-3.21-bioc/R/bin/R CMD build --keep-empty-dirs --no-resave-data scClassify StartedAt: 2025-10-15 19:41:12 -0400 (Wed, 15 Oct 2025) EndedAt: 2025-10-15 19:42:53 -0400 (Wed, 15 Oct 2025) EllapsedTime: 101.1 seconds RetCode: 0 Status: OK PackageFile: scClassify_1.20.0.tar.gz PackageFileSize: 2.903 MiB