Package: scClassify Version: 1.20.0 Command: /Library/Frameworks/R.framework/Resources/bin/R CMD INSTALL scClassify StartedAt: 2025-10-13 16:05:46 -0400 (Mon, 13 Oct 2025) EndedAt: 2025-10-13 16:07:04 -0400 (Mon, 13 Oct 2025) EllapsedTime: 78.3 seconds RetCode: 0 Status: OK