Package: scClassify Version: 1.20.0 Command: /Library/Frameworks/R.framework/Resources/bin/R CMD INSTALL scClassify StartedAt: 2025-10-13 16:16:34 -0400 (Mon, 13 Oct 2025) EndedAt: 2025-10-13 16:17:16 -0400 (Mon, 13 Oct 2025) EllapsedTime: 42.4 seconds RetCode: 0 Status: OK