Package: scBubbletree Version: 1.10.0 Command: /home/biocbuild/bbs-3.21-bioc/R/bin/R CMD build --keep-empty-dirs --no-resave-data scBubbletree StartedAt: 2025-10-15 19:40:51 -0400 (Wed, 15 Oct 2025) EndedAt: 2025-10-15 19:46:00 -0400 (Wed, 15 Oct 2025) EllapsedTime: 309.3 seconds RetCode: 0 Status: OK PackageFile: scBubbletree_1.10.0.tar.gz PackageFileSize: 4.643 MiB