Package: scBubbletree Version: 1.10.0 Command: /Library/Frameworks/R.framework/Resources/bin/R CMD check --install=check:scBubbletree.install-out.txt --library=/Library/Frameworks/R.framework/Resources/library --no-vignettes --timings scBubbletree_1.10.0.tar.gz StartedAt: 2025-10-14 09:48:09 -0400 (Tue, 14 Oct 2025) EndedAt: 2025-10-14 10:10:16 -0400 (Tue, 14 Oct 2025) EllapsedTime: 1327.3 seconds RetCode: 0 Status: OK CheckDir: scBubbletree.Rcheck Warnings: 0