Package: scBubbletree Version: 1.10.0 Command: rm -rf scBubbletree.buildbin-libdir && mkdir scBubbletree.buildbin-libdir && /Users/biocbuild/BBS/utils/build-universal.sh scBubbletree_1.10.0.tar.gz /Library/Frameworks/R.framework/Resources/bin/R scBubbletree.buildbin-libdir StartedAt: 2025-10-14 14:41:28 -0400 (Tue, 14 Oct 2025) EndedAt: 2025-10-14 14:42:28 -0400 (Tue, 14 Oct 2025) EllapsedTime: 59.8 seconds RetCode: 0 Status: OK PackageFile: scBubbletree_1.10.0.tgz PackageFileSize: 2.584 MiB