Package: scBubbletree Version: 1.10.0 Command: /home/biocbuild/R/R/bin/R CMD INSTALL scBubbletree StartedAt: 2025-10-13 20:22:33 -0000 (Mon, 13 Oct 2025) EndedAt: 2025-10-13 20:23:00 -0000 (Mon, 13 Oct 2025) EllapsedTime: 27.0 seconds RetCode: 0 Status: OK