Package: scBubbletree Version: 1.10.0 Command: /home/biocbuild/R/R/bin/R CMD build --keep-empty-dirs --no-resave-data scBubbletree StartedAt: 2025-10-14 04:21:58 -0000 (Tue, 14 Oct 2025) EndedAt: 2025-10-14 04:29:59 -0000 (Tue, 14 Oct 2025) EllapsedTime: 480.4 seconds RetCode: 0 Status: OK PackageFile: scBubbletree_1.10.0.tar.gz PackageFileSize: 4.379 MiB