Package: scBubbletree Version: 1.10.0 Command: /Library/Frameworks/R.framework/Resources/bin/R CMD check --install=check:scBubbletree.install-out.txt --library=/Library/Frameworks/R.framework/Resources/library --no-vignettes --timings scBubbletree_1.10.0.tar.gz StartedAt: 2025-10-15 11:10:12 -0400 (Wed, 15 Oct 2025) EndedAt: 2025-10-15 11:22:26 -0400 (Wed, 15 Oct 2025) EllapsedTime: 734.0 seconds RetCode: 0 Status: OK CheckDir: scBubbletree.Rcheck Warnings: 0