Package: scBubbletree Version: 1.10.0 Command: /Library/Frameworks/R.framework/Resources/bin/R CMD build --keep-empty-dirs --no-resave-data scBubbletree StartedAt: 2025-10-14 08:34:48 -0400 (Tue, 14 Oct 2025) EndedAt: 2025-10-14 08:42:15 -0400 (Tue, 14 Oct 2025) EllapsedTime: 446.8 seconds RetCode: 0 Status: OK PackageFile: scBubbletree_1.10.0.tar.gz PackageFileSize: 4.421 MiB