Package: scAnnotatR Version: 1.14.0 Command: /home/biocbuild/R/R/bin/R CMD build --keep-empty-dirs --no-resave-data scAnnotatR StartedAt: 2025-10-14 04:20:13 -0000 (Tue, 14 Oct 2025) EndedAt: 2025-10-14 04:30:59 -0000 (Tue, 14 Oct 2025) EllapsedTime: 645.5 seconds RetCode: 0 Status: OK PackageFile: scAnnotatR_1.14.0.tar.gz PackageFileSize: 548.8 KiB