Package: scAnnotatR Version: 1.14.0 Command: /Library/Frameworks/R.framework/Resources/bin/R CMD INSTALL scAnnotatR StartedAt: 2025-10-13 16:10:16 -0400 (Mon, 13 Oct 2025) EndedAt: 2025-10-13 16:11:13 -0400 (Mon, 13 Oct 2025) EllapsedTime: 56.9 seconds RetCode: 0 Status: OK