Package: scAnnotatR Version: 1.14.0 Command: rm -rf scAnnotatR.buildbin-libdir && mkdir scAnnotatR.buildbin-libdir && /Users/biocbuild/BBS/utils/build-universal.sh scAnnotatR_1.14.0.tar.gz /Library/Frameworks/R.framework/Resources/bin/R scAnnotatR.buildbin-libdir StartedAt: 2025-10-15 20:19:28 -0400 (Wed, 15 Oct 2025) EndedAt: 2025-10-15 20:20:30 -0400 (Wed, 15 Oct 2025) EllapsedTime: 62.6 seconds RetCode: 0 Status: OK PackageFile: scAnnotatR_1.14.0.tgz PackageFileSize: 1.035 MiB