Package: sangeranalyseR Version: 1.18.0 Command: /home/biocbuild/R/R/bin/R CMD build --keep-empty-dirs --no-resave-data sangeranalyseR StartedAt: 2025-10-14 04:17:25 -0000 (Tue, 14 Oct 2025) EndedAt: 2025-10-14 04:18:17 -0000 (Tue, 14 Oct 2025) EllapsedTime: 52.0 seconds RetCode: 0 Status: OK PackageFile: sangeranalyseR_1.18.0.tar.gz PackageFileSize: 38.22 MiB