Package: sampleClassifier Version: 1.32.0 Command: /home/biocbuild/bbs-3.21-bioc/R/bin/R CMD INSTALL sampleClassifier StartedAt: 2025-10-15 15:28:35 -0400 (Wed, 15 Oct 2025) EndedAt: 2025-10-15 15:28:51 -0400 (Wed, 15 Oct 2025) EllapsedTime: 15.9 seconds RetCode: 0 Status: OK