Package: sampleClassifier Version: 1.32.0 Command: /home/biocbuild/bbs-3.21-bioc/R/bin/R CMD check --install=check:sampleClassifier.install-out.txt --library=/home/biocbuild/bbs-3.21-bioc/R/site-library --timings sampleClassifier_1.32.0.tar.gz StartedAt: 2025-10-16 03:09:16 -0400 (Thu, 16 Oct 2025) EndedAt: 2025-10-16 03:15:13 -0400 (Thu, 16 Oct 2025) EllapsedTime: 356.6 seconds RetCode: 0 Status: OK CheckDir: sampleClassifier.Rcheck Warnings: 0