Package: sampleClassifier Version: 1.32.0 Command: /home/biocbuild/R/R/bin/R CMD check --install=check:sampleClassifier.install-out.txt --library=/home/biocbuild/R/R/site-library --no-vignettes --timings sampleClassifier_1.32.0.tar.gz StartedAt: 2025-10-14 13:43:13 -0000 (Tue, 14 Oct 2025) EndedAt: 2025-10-14 13:49:20 -0000 (Tue, 14 Oct 2025) EllapsedTime: 366.6 seconds RetCode: 0 Status: OK CheckDir: sampleClassifier.Rcheck Warnings: 0