Package: sampleClassifier Version: 1.32.0 Command: /Library/Frameworks/R.framework/Resources/bin/R CMD check --install=check:sampleClassifier.install-out.txt --library=/Library/Frameworks/R.framework/Resources/library --no-vignettes --timings sampleClassifier_1.32.0.tar.gz StartedAt: 2025-10-15 10:52:56 -0400 (Wed, 15 Oct 2025) EndedAt: 2025-10-15 10:57:48 -0400 (Wed, 15 Oct 2025) EllapsedTime: 291.2 seconds RetCode: 0 Status: OK CheckDir: sampleClassifier.Rcheck Warnings: 0