Package: sampleClassifier Version: 1.32.0 Command: /Library/Frameworks/R.framework/Resources/bin/R CMD build --keep-empty-dirs --no-resave-data sampleClassifier StartedAt: 2025-10-14 08:21:18 -0400 (Tue, 14 Oct 2025) EndedAt: 2025-10-14 08:24:13 -0400 (Tue, 14 Oct 2025) EllapsedTime: 174.8 seconds RetCode: 0 Status: OK PackageFile: sampleClassifier_1.32.0.tar.gz PackageFileSize: 238.9 KiB