Package: sampleClassifier Version: 1.32.0 Command: rm -rf sampleClassifier.buildbin-libdir && mkdir sampleClassifier.buildbin-libdir && /Users/biocbuild/BBS/utils/build-universal.sh sampleClassifier_1.32.0.tar.gz /Library/Frameworks/R.framework/Resources/bin/R sampleClassifier.buildbin-libdir StartedAt: 2025-10-15 20:17:38 -0400 (Wed, 15 Oct 2025) EndedAt: 2025-10-15 20:18:00 -0400 (Wed, 15 Oct 2025) EllapsedTime: 21.5 seconds RetCode: 0 Status: OK PackageFile: sampleClassifier_1.32.0.tgz PackageFileSize: 271.1 KiB