Package: safe Version: 3.48.0 Command: /home/biocbuild/bbs-3.21-bioc/R/bin/R CMD INSTALL safe StartedAt: 2025-10-15 15:56:59 -0400 (Wed, 15 Oct 2025) EndedAt: 2025-10-15 15:57:14 -0400 (Wed, 15 Oct 2025) EllapsedTime: 14.5 seconds RetCode: 0 Status: OK