Package: safe Version: 3.48.0 Command: /home/biocbuild/R/R/bin/R CMD build --keep-empty-dirs --no-resave-data safe StartedAt: 2025-10-14 04:17:06 -0000 (Tue, 14 Oct 2025) EndedAt: 2025-10-14 04:25:17 -0000 (Tue, 14 Oct 2025) EllapsedTime: 491.4 seconds RetCode: 0 Status: OK PackageFile: safe_3.48.0.tar.gz PackageFileSize: 699.1 KiB