Package: sSeq Version: 1.46.0 Command: /home/biocbuild/R/R/bin/R CMD INSTALL sSeq StartedAt: 2025-10-13 20:15:05 -0000 (Mon, 13 Oct 2025) EndedAt: 2025-10-13 20:15:30 -0000 (Mon, 13 Oct 2025) EllapsedTime: 25.5 seconds RetCode: 0 Status: OK