Package: sRACIPE Version: 2.0.1 Command: /home/biocbuild/R/R/bin/R CMD INSTALL sRACIPE StartedAt: 2025-10-13 20:29:56 -0000 (Mon, 13 Oct 2025) EndedAt: 2025-10-13 20:31:19 -0000 (Mon, 13 Oct 2025) EllapsedTime: 83.2 seconds RetCode: 0 Status: OK