Package: sRACIPE Version: 2.0.1 Command: /home/biocbuild/R/R/bin/R CMD build --keep-empty-dirs --no-resave-data sRACIPE StartedAt: 2025-10-14 05:07:03 -0000 (Tue, 14 Oct 2025) EndedAt: 2025-10-14 05:08:50 -0000 (Tue, 14 Oct 2025) EllapsedTime: 107.1 seconds RetCode: 0 Status: OK PackageFile: sRACIPE_2.0.1.tar.gz PackageFileSize: 1.95 MiB