Package: rprimer Version: 1.12.0 Command: /Library/Frameworks/R.framework/Resources/bin/R CMD build --keep-empty-dirs --no-resave-data rprimer StartedAt: 2025-04-21 17:29:36 -0400 (Mon, 21 Apr 2025) EndedAt: 2025-04-21 17:30:01 -0400 (Mon, 21 Apr 2025) EllapsedTime: 24.3 seconds RetCode: 0 Status: OK PackageFile: rprimer_1.12.0.tar.gz PackageFileSize: 3.274 MiB