Package: rnaseqcomp Version: 1.38.0 Command: /home/biocbuild/bbs-3.21-bioc/R/bin/R CMD INSTALL rnaseqcomp StartedAt: 2025-10-15 15:04:05 -0400 (Wed, 15 Oct 2025) EndedAt: 2025-10-15 15:04:24 -0400 (Wed, 15 Oct 2025) EllapsedTime: 19.3 seconds RetCode: 0 Status: OK