Package: rnaseqcomp Version: 1.38.0 Command: /home/biocbuild/bbs-3.21-bioc/R/bin/R CMD build --keep-empty-dirs --no-resave-data rnaseqcomp StartedAt: 2025-10-15 19:32:48 -0400 (Wed, 15 Oct 2025) EndedAt: 2025-10-15 19:33:04 -0400 (Wed, 15 Oct 2025) EllapsedTime: 16.0 seconds RetCode: 0 Status: OK PackageFile: rnaseqcomp_1.38.0.tar.gz PackageFileSize: 1.522 MiB