Package: rnaseqcomp Version: 1.38.0 Command: /Library/Frameworks/R.framework/Resources/bin/R CMD build --keep-empty-dirs --no-resave-data rnaseqcomp StartedAt: 2025-10-13 22:05:42 -0400 (Mon, 13 Oct 2025) EndedAt: 2025-10-13 22:06:21 -0400 (Mon, 13 Oct 2025) EllapsedTime: 39.3 seconds RetCode: 0 Status: OK PackageFile: rnaseqcomp_1.38.0.tar.gz PackageFileSize: 1.531 MiB